BEGIN:VCALENDAR
VERSION:2.0
CALSCALE:GREGORIAN
PRODID:adamgibbons/ics
METHOD:PUBLISH
X-PUBLISHED-TTL:PT1H
BEGIN:VEVENT
UID:431@improkalender-stuttgart.de
SUMMARY:Theater-Impro-Spiele Kurs für AnfängerInnen
DTSTAMP:20260424T102930Z
DTSTART:20260429T160000Z
DTEND:20260429T173000Z
URL:https://improkalender-stuttgart.de/event/theater-impro-spiele-kurs-fur-
	anfangerinnen-15
LOCATION:Zentrum-Weissenburg - Weissenburgstraße 28A\, 70180 Stuttgart\, 1.
	 Stock
STATUS:CONFIRMED
CATEGORIES:Anfänger Impro Kurs,Anfänger Improtheater Unterricht,Anfänger Sc
	hauspiel Unterricht,Horst Emrich,Impro,Theater-Impro-Spiele Kurs
END:VEVENT
END:VCALENDAR
